BEGIN:VCALENDAR
VERSION:2.0
PRODID:-//Ge-Nuss-Ecke - ECPv6.15.20//NONSGML v1.0//EN
CALSCALE:GREGORIAN
METHOD:PUBLISH
X-WR-CALNAME:Ge-Nuss-Ecke
X-ORIGINAL-URL:https://ge-nuss-ecke.de
X-WR-CALDESC:Veranstaltungen für Ge-Nuss-Ecke
REFRESH-INTERVAL;VALUE=DURATION:PT1H
X-Robots-Tag:noindex
X-PUBLISHED-TTL:PT1H
BEGIN:VTIMEZONE
TZID:Europe/Berlin
BEGIN:DAYLIGHT
TZOFFSETFROM:+0100
TZOFFSETTO:+0200
TZNAME:CEST
DTSTART:20250330T010000
END:DAYLIGHT
BEGIN:STANDARD
TZOFFSETFROM:+0200
TZOFFSETTO:+0100
TZNAME:CET
DTSTART:20251026T010000
END:STANDARD
BEGIN:DAYLIGHT
TZOFFSETFROM:+0100
TZOFFSETTO:+0200
TZNAME:CEST
DTSTART:20260329T010000
END:DAYLIGHT
BEGIN:STANDARD
TZOFFSETFROM:+0200
TZOFFSETTO:+0100
TZNAME:CET
DTSTART:20261025T010000
END:STANDARD
BEGIN:DAYLIGHT
TZOFFSETFROM:+0100
TZOFFSETTO:+0200
TZNAME:CEST
DTSTART:20270328T010000
END:DAYLIGHT
BEGIN:STANDARD
TZOFFSETFROM:+0200
TZOFFSETTO:+0100
TZNAME:CET
DTSTART:20271031T010000
END:STANDARD
END:VTIMEZONE
BEGIN:VEVENT
DTSTART;VALUE=DATE:20260107
DTEND;VALUE=DATE:20260219
DTSTAMP:20260423T122030
CREATED:20260106T112241Z
LAST-MODIFIED:20260107T110233Z
UID:1745-1767744000-1771459199@ge-nuss-ecke.de
SUMMARY:Kunstausstellung Susanne Elter
DESCRIPTION:Susanne Elter – susanne-elter.de \n„Kunst ist ein wichtiger Teil meines Lebens und ich bin dankbar\, in der Ge-Nuss-Ecke einen Teil meiner Bilder zeigen zu dürfen“ Susanne Elter \nBild erstellt mit Canva
URL:https://ge-nuss-ecke.de/event/kunstausstellung-susanne-elter/
LOCATION:Ge-Nuss-Ecke\, Lannesdorfer Str. 2 - 4\, Bonn
ATTACH;FMTTYPE=image/jpeg:https://ge-nuss-ecke.de/wp-content/uploads/2026/01/2026_01-Susanne-Elter.jpg
ORGANIZER;CN="Freunde der Ge-Nuss-Ecke e.V.":MAILTO:kontakt@ge-nuss-ecke.de
END:VEVENT
BEGIN:VEVENT
DTSTART;TZID=Europe/Berlin:20260202T143000
DTEND;TZID=Europe/Berlin:20260202T163000
DTSTAMP:20260423T122030
CREATED:20251226T142156Z
LAST-MODIFIED:20260118T160938Z
UID:1702-1770042600-1770049800@ge-nuss-ecke.de
SUMMARY:Maschen und Naschen
DESCRIPTION:Kommt vorbei zum beliebten wöchentlichen Verzählcher mit Pia und Renate \nBringt eure Häkel- Strick oder Sticknadeln mit zum fleißigem Handarbeiten. \nGemeinsam\, gemütlich handarbeiten und sich gegenseitig unterstützen. \nGenussvoll Kaffee und Kuchen genießen. \nBild erstellt mit Canva
URL:https://ge-nuss-ecke.de/event/maschen-und-naschen-42/
LOCATION:Ge-Nuss-Ecke\, Lannesdorfer Str. 2 - 4\, Bonn
CATEGORIES:Maschen und Naschen
ATTACH;FMTTYPE=image/jpeg:https://ge-nuss-ecke.de/wp-content/uploads/2026/01/2026_Maschen-und-Naschen-2.jpg
ORGANIZER;CN="Freunde der Ge-Nuss-Ecke e.V.":MAILTO:kontakt@ge-nuss-ecke.de
END:VEVENT
BEGIN:VEVENT
DTSTART;TZID=Europe/Berlin:20260204T160000
DTEND;TZID=Europe/Berlin:20260204T180000
DTSTAMP:20260423T122030
CREATED:20260130T052539Z
LAST-MODIFIED:20260130T053101Z
UID:2051-1770220800-1770228000@ge-nuss-ecke.de
SUMMARY:Gemeinsam statt Einsam
DESCRIPTION:Hast du Lust dich mit anderen auszutauschen? \nNeue Ideen zu entwickeln? \nOder kannst du unterstützend helfen bei Fragen rund ums Handy? \nIngrid und Carola schaffen in der Ge-Nuss-Ecke einen Raum für dich und alle anderen. \nZusammen ist man weniger alleine \nKomm vorbei auf eine Tasse Tee \nBild erstellt mit Canva
URL:https://ge-nuss-ecke.de/event/gemeinsam-statt-einsam/
LOCATION:Ge-Nuss-Ecke\, Lannesdorfer Str. 2 - 4\, Bonn
ATTACH;FMTTYPE=image/jpeg:https://ge-nuss-ecke.de/wp-content/uploads/2026/01/2026_G.jpg
ORGANIZER;CN="Freunde der Ge-Nuss-Ecke e.V.":MAILTO:kontakt@ge-nuss-ecke.de
END:VEVENT
BEGIN:VEVENT
DTSTART;TZID=Europe/Berlin:20260207T090000
DTEND;TZID=Europe/Berlin:20260207T160000
DTSTAMP:20260423T122030
CREATED:20251231T130501Z
LAST-MODIFIED:20260130T060919Z
UID:1715-1770454800-1770480000@ge-nuss-ecke.de
SUMMARY:Begegnung am Samstag
DESCRIPTION:Auch diesen Samstag freuen sich die ehrenamtlich Helfenden über deinen Besuch in der Ge-Nuss-Ecke. \nTriff dich mit Freunden\, Familie\, Verwandten\, Nachbarn oder lerne neue Bekannte kennen. \nBeim Frühstück oder bei Kaffee und Kuchen. \nBild erstellt mit Canva
URL:https://ge-nuss-ecke.de/event/begegnung-am-samstag-5/
LOCATION:Ge-Nuss-Ecke\, Lannesdorfer Str. 2 - 4\, Bonn
ATTACH;FMTTYPE=image/jpeg:https://ge-nuss-ecke.de/wp-content/uploads/2025/12/2026_Begegnung-a.S.jpg
ORGANIZER;CN="Freunde der Ge-Nuss-Ecke e.V.":MAILTO:kontakt@ge-nuss-ecke.de
END:VEVENT
BEGIN:VEVENT
DTSTART;TZID=Europe/Berlin:20260209T143000
DTEND;TZID=Europe/Berlin:20260209T163000
DTSTAMP:20260423T122030
CREATED:20251226T144724Z
LAST-MODIFIED:20260118T160823Z
UID:1705-1770647400-1770654600@ge-nuss-ecke.de
SUMMARY:Maschen und Naschen
DESCRIPTION:Kommt vorbei zum beliebten wöchentlichen Verzählcher mit Pia und Renate \nBringt eure Häkel- Strick oder Sticknadeln mit zum fleißigem Handarbeiten. \nGemeinsam\, gemütlich handarbeiten und sich gegenseitig unterstützen. \nGenussvoll Kaffee und Kuchen genießen. \nBild erstellt mit Canva
URL:https://ge-nuss-ecke.de/event/maschen-und-naschen-43/
LOCATION:Ge-Nuss-Ecke\, Lannesdorfer Str. 2 - 4\, Bonn
CATEGORIES:Maschen und Naschen
ATTACH;FMTTYPE=image/jpeg:https://ge-nuss-ecke.de/wp-content/uploads/2026/01/2026_Maschen-und-Naschen-2.jpg
ORGANIZER;CN="Freunde der Ge-Nuss-Ecke e.V.":MAILTO:kontakt@ge-nuss-ecke.de
END:VEVENT
BEGIN:VEVENT
DTSTART;TZID=Europe/Berlin:20260209T190000
DTEND;TZID=Europe/Berlin:20260209T203000
DTSTAMP:20260423T122030
CREATED:20260128T063537Z
LAST-MODIFIED:20260130T124528Z
UID:2042-1770663600-1770669000@ge-nuss-ecke.de
SUMMARY:Gemeinsam Musizieren ausnahmsweise mal um 19:00 Uhr
DESCRIPTION:Herzlich willkommen! \nWir spielen derzeit Folk-Musik und Tango. \nWenn du ein Instrument beherrschst und Lust hast\, in einem kleinen\, selbst organisiertem Ensemble zu spielen\, dann melde dich! \nBild erstellt mit Canva \n 
URL:https://ge-nuss-ecke.de/event/gemeinsam-musizieren-ausnahmsweise-mal-um-1900-uhr/
LOCATION:Ge-Nuss-Ecke\, Lannesdorfer Str. 2 - 4\, Bonn
ATTACH;FMTTYPE=image/jpeg:https://ge-nuss-ecke.de/wp-content/uploads/2026/01/2026_Ge-Nuss-Ecken-Band.jpg
ORGANIZER;CN="Freunde der Ge-Nuss-Ecke e.V.":MAILTO:kontakt@ge-nuss-ecke.de
END:VEVENT
BEGIN:VEVENT
DTSTART;TZID=Europe/Berlin:20260211T160000
DTEND;TZID=Europe/Berlin:20260211T180000
DTSTAMP:20260423T122030
CREATED:20260130T052920Z
LAST-MODIFIED:20260130T052920Z
UID:2055-1770825600-1770832800@ge-nuss-ecke.de
SUMMARY:Gemeinsam statt Einsam
DESCRIPTION:Hast du Lust dich mit anderen auszutauschen? \nNeue Ideen zu entwickeln? \nOder kannst du unterstützend helfen bei Fragen rund ums Handy? \nIngrid und Carola schaffen in der Ge-Nuss-Ecke einen Raum für dich und alle anderen. \nZusammen ist man weniger alleine \nKomm vorbei auf eine Tasse Tee \nBild erstellt mit Canva
URL:https://ge-nuss-ecke.de/event/gemeinsam-statt-einsam-3/
LOCATION:Ge-Nuss-Ecke\, Lannesdorfer Str. 2 - 4\, Bonn
ATTACH;FMTTYPE=image/jpeg:https://ge-nuss-ecke.de/wp-content/uploads/2026/01/2026_G.jpg
ORGANIZER;CN="Freunde der Ge-Nuss-Ecke e.V.":MAILTO:kontakt@ge-nuss-ecke.de
END:VEVENT
BEGIN:VEVENT
DTSTART;TZID=Europe/Berlin:20260212T180000
DTEND;TZID=Europe/Berlin:20260212T210000
DTSTAMP:20260423T122030
CREATED:20260116T151512Z
LAST-MODIFIED:20260116T151512Z
UID:1965-1770919200-1770930000@ge-nuss-ecke.de
SUMMARY:Spieleabend fällt aus wegen Weiberfastnacht
DESCRIPTION:Mit Michael und Lisa \nKommt vorbei und spielt mit. \nVielleicht habt ihr ein Spiel und sucht Mitspieler? Dann herein spaziert! \nVielleicht hast du Lust etwas neues auszuprobieren? Dann herein spaziert! \nJeden zweiten und vierten Donnerstag im Monat! \nBild erstellt mit Canva
URL:https://ge-nuss-ecke.de/event/spieleabend-faellt-aus-wegen-weiberfastnacht/
LOCATION:Ge-Nuss-Ecke\, Lannesdorfer Str. 2 - 4\, Bonn
ATTACH;FMTTYPE=image/jpeg:https://ge-nuss-ecke.de/wp-content/uploads/2026/01/2026_Spielabend-Berufstaetige.jpg
ORGANIZER;CN="Freunde der Ge-Nuss-Ecke e.V.":MAILTO:kontakt@ge-nuss-ecke.de
END:VEVENT
BEGIN:VEVENT
DTSTART;TZID=Europe/Berlin:20260214T090000
DTEND;TZID=Europe/Berlin:20260214T160000
DTSTAMP:20260423T122030
CREATED:20251231T130725Z
LAST-MODIFIED:20260208T142152Z
UID:1717-1771059600-1771084800@ge-nuss-ecke.de
SUMMARY:Valentinsfrühstück oder Karnevalsbuffet
DESCRIPTION:Es ist das\, was du daraus machst! \nAuch diesen Samstag freuen sich die ehrenamtlich Helfenden über deinen Besuch in der Ge-Nuss-Ecke. \nTriff dich mit Freunden\, Familie\, Verwandten\, Nachbarn oder lerne neue Bekannte kennen. \nBeim Frühstück oder bei Kaffee und Kuchen. \nZum Valentins- bzw. Karnevalssamstag lassen wir uns viele Leckereien einfallen. \nVom Begrüßungs- Smoothie über verschiedene Speisen mit und ohne Fleisch. \nDie Getränke\, wie Kaffee/Tee\, Wasser und Saft sind inklusive! \nFür Vereinsmitglieder gibt es 5€ Rabatt \nFür Kostümierte gibt es 1€ Rabatt \nWer am 14.2.26 Mitglied wird bekommt 6€ Rabatt \n  \nBild erstellt mit Canva
URL:https://ge-nuss-ecke.de/event/valentinsfruehstueck-oder-karnevalsbuffet/
LOCATION:Ge-Nuss-Ecke\, Lannesdorfer Str. 2 - 4\, Bonn
ATTACH;FMTTYPE=image/jpeg:https://ge-nuss-ecke.de/wp-content/uploads/2025/12/2026_02_14-Buffet.jpg
ORGANIZER;CN="Freunde der Ge-Nuss-Ecke e.V.":MAILTO:kontakt@ge-nuss-ecke.de
END:VEVENT
BEGIN:VEVENT
DTSTART;TZID=Europe/Berlin:20260214T130000
DTEND;TZID=Europe/Berlin:20260214T160000
DTSTAMP:20260423T122030
CREATED:20260212T130429Z
LAST-MODIFIED:20260212T130429Z
UID:2149-1771074000-1771084800@ge-nuss-ecke.de
SUMMARY:Kaffee und Kuchen zu Karneval oder Valentinstag
DESCRIPTION:Auch heute gibt es den leckeren selbstgebackenen Kuchen. \nDazu ein Tässchen Kaffee oder Tee \nBild erstellt mit Canva
URL:https://ge-nuss-ecke.de/event/kaffee-und-kuchen-zu-karneval-oder-valentinstag/
LOCATION:Ge-Nuss-Ecke\, Lannesdorfer Str. 2 - 4\, Bonn
ATTACH;FMTTYPE=image/jpeg:https://ge-nuss-ecke.de/wp-content/uploads/2026/02/2026_02_14-Kaffee-und-Kuchen.jpg
ORGANIZER;CN="Freunde der Ge-Nuss-Ecke e.V.":MAILTO:kontakt@ge-nuss-ecke.de
END:VEVENT
BEGIN:VEVENT
DTSTART;VALUE=DATE:20260216
DTEND;VALUE=DATE:20260217
DTSTAMP:20260423T122030
CREATED:20260107T134154Z
LAST-MODIFIED:20260107T135751Z
UID:1803-1771200000-1771286399@ge-nuss-ecke.de
SUMMARY:Kein Maschen und Naschen wegen Rosenmontag
DESCRIPTION:Alaaf ihr Jecken! \nHück weed et jood \nDe Zoch kütt
URL:https://ge-nuss-ecke.de/event/kein-maschen-und-naschen-wegen-rosenmontag/
LOCATION:Ge-Nuss-Ecke\, Lannesdorfer Str. 2 - 4\, Bonn
ATTACH;FMTTYPE=image/jpeg:https://ge-nuss-ecke.de/wp-content/uploads/2026/01/2026_Rosenmontag.jpg
ORGANIZER;CN="Freunde der Ge-Nuss-Ecke e.V.":MAILTO:kontakt@ge-nuss-ecke.de
END:VEVENT
BEGIN:VEVENT
DTSTART;VALUE=DATE:20260218
DTEND;VALUE=DATE:20260329
DTSTAMP:20260423T122030
CREATED:20260221T142013Z
LAST-MODIFIED:20260305T150700Z
UID:2168-1771372800-1774742399@ge-nuss-ecke.de
SUMMARY:Kunstausstellung Susanne Bemmer\, Ulrike Odenkirchen und Ulrike Weigelmann
DESCRIPTION:Wieder eine wundervolle Kunstausstellung dreier Bonner Künstlerinnen. \nMöchten Sie auch mal bei uns ausstellen? \nMelden Sie sich gerne unter kontakt@ge-nuss-ecke.de \nBild erstellt mit Canva
URL:https://ge-nuss-ecke.de/event/kunstausstellung-bemmer-odenkirchen-weigelmann/
LOCATION:Ge-Nuss-Ecke\, Lannesdorfer Str. 2 - 4\, Bonn
ATTACH;FMTTYPE=image/jpeg:https://ge-nuss-ecke.de/wp-content/uploads/2026/02/2026_02_18-Kunstausstellung-S.B.U.W.U.O-1.jpg
ORGANIZER;CN="Freunde der Ge-Nuss-Ecke e.V.":MAILTO:kontakt@ge-nuss-ecke.de
END:VEVENT
BEGIN:VEVENT
DTSTART;TZID=Europe/Berlin:20260218T160000
DTEND;TZID=Europe/Berlin:20260218T180000
DTSTAMP:20260423T122030
CREATED:20260130T053239Z
LAST-MODIFIED:20260228T053846Z
UID:2058-1771430400-1771437600@ge-nuss-ecke.de
SUMMARY:Gemeinsam statt Einsam
DESCRIPTION:Hast du Lust dich mit anderen auszutauschen? \nNeue Ideen zu entwickeln? \nOder kannst du unterstützend helfen bei Fragen rund ums Handy? \nIngrid und Carola schaffen in der Ge-Nuss-Ecke einen Raum für dich und alle anderen. \nZusammen ist man weniger alleine \nKomm vorbei auf eine Tasse Tee \nBild erstellt mit Canva
URL:https://ge-nuss-ecke.de/event/gemeinsam-statt-einsam-4/
LOCATION:Ge-Nuss-Ecke\, Lannesdorfer Str. 2 - 4\, Bonn
ATTACH;FMTTYPE=image/jpeg:https://ge-nuss-ecke.de/wp-content/uploads/2026/01/2026_G.jpg
ORGANIZER;CN="Freunde der Ge-Nuss-Ecke e.V.":MAILTO:kontakt@ge-nuss-ecke.de
END:VEVENT
BEGIN:VEVENT
DTSTART;TZID=Europe/Berlin:20260220T113000
DTEND;TZID=Europe/Berlin:20260220T123000
DTSTAMP:20260423T122030
CREATED:20251231T133015Z
LAST-MODIFIED:20251231T133015Z
UID:1727-1771587000-1771590600@ge-nuss-ecke.de
SUMMARY:Singen mit Wingen
DESCRIPTION:Sing mit und freu dich an der Musik! \nKatharina gibt dir Inspirationen! \nDu wünscht ein bestimmtes Lied zu singen? \nKatharina freut sich auf deinen Vorschlag \nTipps vom Profi und gemeinsam Singen machen glücklich \nBild folgt mit Canva
URL:https://ge-nuss-ecke.de/event/singen-mit-wingen-7/
LOCATION:Ge-Nuss-Ecke\, Lannesdorfer Str. 2 - 4\, Bonn
ATTACH;FMTTYPE=image/jpeg:https://ge-nuss-ecke.de/wp-content/uploads/2025/12/2026_Singen-mit-Wingen.jpg
ORGANIZER;CN="Freunde der Ge-Nuss-Ecke e.V.":MAILTO:kontakt@ge-nuss-ecke.de
END:VEVENT
BEGIN:VEVENT
DTSTART;TZID=Europe/Berlin:20260221T090000
DTEND;TZID=Europe/Berlin:20260221T160000
DTSTAMP:20260423T122030
CREATED:20251231T130853Z
LAST-MODIFIED:20260108T123555Z
UID:1719-1771664400-1771689600@ge-nuss-ecke.de
SUMMARY:Geschlossene Veranstaltung
DESCRIPTION:An diesem Samstag ist die Ge-Nuss-Ecke für eine Familienfeier ganztägig gebucht. \nMöchten Sie auch die Räume nutzen? \nMelden Sie sich unter kontakt@ge-nuss-ecke.de \nBild erstellt mit Canva
URL:https://ge-nuss-ecke.de/event/begegnung-am-samstag-6/
LOCATION:Ge-Nuss-Ecke\, Lannesdorfer Str. 2 - 4\, Bonn
ATTACH;FMTTYPE=image/jpeg:https://ge-nuss-ecke.de/wp-content/uploads/2025/12/2026_02_21-Geschlossen.jpg
ORGANIZER;CN="Freunde der Ge-Nuss-Ecke e.V.":MAILTO:kontakt@ge-nuss-ecke.de
END:VEVENT
BEGIN:VEVENT
DTSTART;VALUE=DATE:20260222
DTEND;VALUE=DATE:20260223
DTSTAMP:20260423T122030
CREATED:20260218T085453Z
LAST-MODIFIED:20260218T085453Z
UID:2156-1771718400-1771804799@ge-nuss-ecke.de
SUMMARY:Geschlossene Veranstaltung
DESCRIPTION:Heuete findet hier eine Familienfeier statt. \nMöchtest du auch einmal die Ge-Nuss-Ecke für eine Feier oder einen Workshop nutzen? \nMelde dich gerne unter kontakt@ge-nuss-ecke.de \nBild erstellt mit Canva
URL:https://ge-nuss-ecke.de/event/geschlossene-veranstaltung-9/
LOCATION:Ge-Nuss-Ecke\, Lannesdorfer Str. 2 - 4\, Bonn
ATTACH;FMTTYPE=image/jpeg:https://ge-nuss-ecke.de/wp-content/uploads/2026/02/2026_Geschlossene-Veranstaltung.jpg
ORGANIZER;CN="Freunde der Ge-Nuss-Ecke e.V.":MAILTO:kontakt@ge-nuss-ecke.de
END:VEVENT
BEGIN:VEVENT
DTSTART;TZID=Europe/Berlin:20260223T143000
DTEND;TZID=Europe/Berlin:20260223T163000
DTSTAMP:20260423T122030
CREATED:20260107T135911Z
LAST-MODIFIED:20260118T160339Z
UID:1806-1771857000-1771864200@ge-nuss-ecke.de
SUMMARY:Maschen und Naschen
DESCRIPTION:Kommt vorbei zum beliebten wöchentlichen Verzählcher mit Pia und Renate \nBringt eure Häkel- Strick oder Sticknadeln mit zum fleißigem Handarbeiten. \nGemeinsam\, gemütlich handarbeiten und sich gegenseitig unterstützen. \nGenussvoll Kaffee und Kuchen genießen. \nBild erstellt mit Canva
URL:https://ge-nuss-ecke.de/event/maschen-und-naschen-44/
LOCATION:Ge-Nuss-Ecke\, Lannesdorfer Str. 2 - 4\, Bonn
ATTACH;FMTTYPE=image/jpeg:https://ge-nuss-ecke.de/wp-content/uploads/2026/01/2026_Maschen-und-Naschen-2.jpg
ORGANIZER;CN="Freunde der Ge-Nuss-Ecke e.V.":MAILTO:kontakt@ge-nuss-ecke.de
END:VEVENT
BEGIN:VEVENT
DTSTART;TZID=Europe/Berlin:20260225T160000
DTEND;TZID=Europe/Berlin:20260225T180000
DTSTAMP:20260423T122030
CREATED:20260130T053410Z
LAST-MODIFIED:20260219T113656Z
UID:2060-1772035200-1772042400@ge-nuss-ecke.de
SUMMARY:Fällt leider aus- Gemeinsam statt Einsam
DESCRIPTION:Hast du Lust dich mit anderen auszutauschen? \nNeue Ideen zu entwickeln? \nOder kannst du unterstützend helfen bei Fragen rund ums Handy? \nIngrid und Carola schaffen in der Ge-Nuss-Ecke einen Raum für dich und alle anderen. \nZusammen ist man weniger alleine \nKomm vorbei auf eine Tasse Tee \nBild erstellt mit Canva
URL:https://ge-nuss-ecke.de/event/gemeinsam-statt-einsam-5/
LOCATION:Ge-Nuss-Ecke\, Lannesdorfer Str. 2 - 4\, Bonn
ATTACH;FMTTYPE=image/jpeg:https://ge-nuss-ecke.de/wp-content/uploads/2026/01/2026_02_25-GsE-faellt-aus.jpg
ORGANIZER;CN="Freunde der Ge-Nuss-Ecke e.V.":MAILTO:kontakt@ge-nuss-ecke.de
END:VEVENT
BEGIN:VEVENT
DTSTART;TZID=Europe/Berlin:20260226T180000
DTEND;TZID=Europe/Berlin:20260226T210000
DTSTAMP:20260423T122030
CREATED:20260116T151739Z
LAST-MODIFIED:20260116T151739Z
UID:1967-1772128800-1772139600@ge-nuss-ecke.de
SUMMARY:Spieleabend
DESCRIPTION:Mit Michael und Lisa \nKommt vorbei und spielt mit. \nVielleicht habt ihr ein Spiel und sucht Mitspieler? Dann herein spaziert! \nVielleicht hast du Lust etwas neues auszuprobieren? Dann herein spaziert! \nJeden zweiten und vierten Donnerstag im Monat! \nBild erstellt mit Canva
URL:https://ge-nuss-ecke.de/event/spieleabend-19/
LOCATION:Ge-Nuss-Ecke\, Lannesdorfer Str. 2 - 4\, Bonn
ATTACH;FMTTYPE=image/jpeg:https://ge-nuss-ecke.de/wp-content/uploads/2026/01/2026_Spielabend-Berufstaetige.jpg
ORGANIZER;CN="Freunde der Ge-Nuss-Ecke e.V.":MAILTO:kontakt@ge-nuss-ecke.de
END:VEVENT
BEGIN:VEVENT
DTSTART;TZID=Europe/Berlin:20260228T090000
DTEND;TZID=Europe/Berlin:20260228T160000
DTSTAMP:20260423T122030
CREATED:20251231T131036Z
LAST-MODIFIED:20260130T061115Z
UID:1721-1772269200-1772294400@ge-nuss-ecke.de
SUMMARY:Begegnung am Samstag
DESCRIPTION:Auch diesen Samstag freuen sich die ehrenamtlich Helfenden über deinen Besuch in der Ge-Nuss-Ecke. \nTriff dich mit Freunden\, Familie\, Verwandten\, Nachbarn oder lerne neue Bekannte kennen. \nBeim Frühstück oder bei Kaffee und Kuchen. \nBild erstellt mit Canva
URL:https://ge-nuss-ecke.de/event/begegnung-am-samstag-7/
LOCATION:Ge-Nuss-Ecke\, Lannesdorfer Str. 2 - 4\, Bonn
ATTACH;FMTTYPE=image/jpeg:https://ge-nuss-ecke.de/wp-content/uploads/2025/12/2026_Begegnung-a.S.jpg
ORGANIZER;CN="Freunde der Ge-Nuss-Ecke e.V.":MAILTO:kontakt@ge-nuss-ecke.de
END:VEVENT
END:VCALENDAR