BEGIN:VCALENDAR
VERSION:2.0
PRODID:-//Ge-Nuss-Ecke - ECPv6.15.20//NONSGML v1.0//EN
CALSCALE:GREGORIAN
METHOD:PUBLISH
X-ORIGINAL-URL:https://ge-nuss-ecke.de
X-WR-CALDESC:Veranstaltungen für Ge-Nuss-Ecke
REFRESH-INTERVAL;VALUE=DURATION:PT1H
X-Robots-Tag:noindex
X-PUBLISHED-TTL:PT1H
BEGIN:VTIMEZONE
TZID:Europe/Berlin
BEGIN:DAYLIGHT
TZOFFSETFROM:+0100
TZOFFSETTO:+0200
TZNAME:CEST
DTSTART:20250330T010000
END:DAYLIGHT
BEGIN:STANDARD
TZOFFSETFROM:+0200
TZOFFSETTO:+0100
TZNAME:CET
DTSTART:20251026T010000
END:STANDARD
BEGIN:DAYLIGHT
TZOFFSETFROM:+0100
TZOFFSETTO:+0200
TZNAME:CEST
DTSTART:20260329T010000
END:DAYLIGHT
BEGIN:STANDARD
TZOFFSETFROM:+0200
TZOFFSETTO:+0100
TZNAME:CET
DTSTART:20261025T010000
END:STANDARD
BEGIN:DAYLIGHT
TZOFFSETFROM:+0100
TZOFFSETTO:+0200
TZNAME:CEST
DTSTART:20270328T010000
END:DAYLIGHT
BEGIN:STANDARD
TZOFFSETFROM:+0200
TZOFFSETTO:+0100
TZNAME:CET
DTSTART:20271031T010000
END:STANDARD
END:VTIMEZONE
BEGIN:VEVENT
DTSTART;VALUE=DATE:20260218
DTEND;VALUE=DATE:20260329
DTSTAMP:20260421T090118
CREATED:20260221T142013Z
LAST-MODIFIED:20260305T150700Z
UID:2168-1771372800-1774742399@ge-nuss-ecke.de
SUMMARY:Kunstausstellung Susanne Bemmer\, Ulrike Odenkirchen und Ulrike Weigelmann
DESCRIPTION:Wieder eine wundervolle Kunstausstellung dreier Bonner Künstlerinnen. \nMöchten Sie auch mal bei uns ausstellen? \nMelden Sie sich gerne unter kontakt@ge-nuss-ecke.de \nBild erstellt mit Canva
URL:https://ge-nuss-ecke.de/event/kunstausstellung-bemmer-odenkirchen-weigelmann/
LOCATION:Ge-Nuss-Ecke\, Lannesdorfer Str. 2 - 4\, Bonn
ATTACH;FMTTYPE=image/jpeg:https://ge-nuss-ecke.de/wp-content/uploads/2026/02/2026_02_18-Kunstausstellung-S.B.U.W.U.O-1.jpg
ORGANIZER;CN="Freunde der Ge-Nuss-Ecke e.V.":MAILTO:kontakt@ge-nuss-ecke.de
END:VEVENT
BEGIN:VEVENT
DTSTART;TZID=Europe/Berlin:20260302T143000
DTEND;TZID=Europe/Berlin:20260302T163000
DTSTAMP:20260421T090118
CREATED:20260107T140032Z
LAST-MODIFIED:20260118T160214Z
UID:1808-1772461800-1772469000@ge-nuss-ecke.de
SUMMARY:Maschen und Naschen
DESCRIPTION:Kommt vorbei zum beliebten wöchentlichen Verzählcher mit Pia und Renate \nBringt eure Häkel- Strick oder Sticknadeln mit zum fleißigem Handarbeiten. \nGemeinsam\, gemütlich handarbeiten und sich gegenseitig unterstützen. \nGenussvoll Kaffee und Kuchen genießen. \nBild erstellt mit Canva
URL:https://ge-nuss-ecke.de/event/maschen-und-naschen-45/
LOCATION:Ge-Nuss-Ecke\, Lannesdorfer Str. 2 - 4\, Bonn
ATTACH;FMTTYPE=image/jpeg:https://ge-nuss-ecke.de/wp-content/uploads/2026/01/2026_Maschen-und-Naschen-2.jpg
ORGANIZER;CN="Freunde der Ge-Nuss-Ecke e.V.":MAILTO:kontakt@ge-nuss-ecke.de
END:VEVENT
BEGIN:VEVENT
DTSTART;TZID=Europe/Berlin:20260304T160000
DTEND;TZID=Europe/Berlin:20260304T180000
DTSTAMP:20260421T090118
CREATED:20260228T055038Z
LAST-MODIFIED:20260228T055551Z
UID:2177-1772640000-1772647200@ge-nuss-ecke.de
SUMMARY:Gemeinsam statt Einsam
DESCRIPTION:  \n  \n  \n  \n  \n  \n  \n  \n  \nHast du Lust dich mit anderen auszutauschen? \nNeue Ideen zu entwickeln? \nOder kannst du unterstützend helfen bei Fragen rund ums Handy? \nIngrid und Carola schaffen in der Ge-Nuss-Ecke einen Raum für dich und alle anderen. \nZusammen ist man weniger alleine \nKomm vorbei auf eine Tasse Tee \nBild erstellt mit Canva
URL:https://ge-nuss-ecke.de/event/gemeinsam-statt-einsam-6/
LOCATION:Ge-Nuss-Ecke\, Lannesdorfer Str. 2 - 4\, Bonn
ORGANIZER;CN="Freunde der Ge-Nuss-Ecke e.V.":MAILTO:kontakt@ge-nuss-ecke.de
END:VEVENT
BEGIN:VEVENT
DTSTART;TZID=Europe/Berlin:20260306T153000
DTEND;TZID=Europe/Berlin:20260306T163000
DTSTAMP:20260421T090118
CREATED:20260201T131007Z
LAST-MODIFIED:20260201T135247Z
UID:2101-1772811000-1772814600@ge-nuss-ecke.de
SUMMARY:Bilderbuchkino "Die kleine Hexe" von Otfried Preußler
DESCRIPTION:Wir freuen uns ein weiteres Bilderbuchkino in Kooperation mit der KÖB Herz Jesu anbieten zu können. \nFür Kinder im Alter von 3-7 Jahren in Begleitung eines Erwachsenen. \nEintritt frei \nBild erstellt mit Canva \n 
URL:https://ge-nuss-ecke.de/event/bilderbuchkino-die-kleine-hexe-von-otfried-preussler/
LOCATION:Ge-Nuss-Ecke\, Lannesdorfer Str. 2 - 4\, Bonn
ATTACH;FMTTYPE=image/jpeg:https://ge-nuss-ecke.de/wp-content/uploads/2026/02/2026_03_06-Bilderbuchkino.jpg
ORGANIZER;CN="Freunde der Ge-Nuss-Ecke e.V.":MAILTO:kontakt@ge-nuss-ecke.de
END:VEVENT
BEGIN:VEVENT
DTSTART;TZID=Europe/Berlin:20260308T170000
DTEND;TZID=Europe/Berlin:20260308T183000
DTSTAMP:20260421T090118
CREATED:20260306T051933Z
LAST-MODIFIED:20260307T121630Z
UID:2225-1772989200-1772994600@ge-nuss-ecke.de
SUMMARY:Programmänderung! Blaue Stunde- ein Wohnzimmerkonzert mit Orion II statt "Please hold the line"
DESCRIPTION:Programmänderung! \nLeider muss das Wohnzimmerkonzert mit „Please hold the line“ krankheitsbedingt ausfallen. \nWir wünschen der Sängerin gute und schnelle Besserung. \nDie gute Nachricht: \nDie Band Orion II übernimmt! \nFreut euch auf eine musikalische Reise um den Erdball mit Samba\, Cha-Cha-Cha und vielen internationalen Rhythmen! \nEintritt gebührenfrei- Es geht ein Hut für die Künstler herum! \nGetränke und Snacks zu fairen Preisen \nBild erstellt mit Canva
URL:https://ge-nuss-ecke.de/event/blaue-stunde-ein-wohnzimmerkonzert-mit-please-hold-the-line/
LOCATION:Ge-Nuss-Ecke\, Lannesdorfer Str. 2 - 4\, Bonn
CATEGORIES:Musikevents
ATTACH;FMTTYPE=image/jpeg:https://ge-nuss-ecke.de/wp-content/uploads/2026/02/2026_03_08-Blaue-Stunde.jpg
ORGANIZER;CN="Freunde der Ge-Nuss-Ecke e.V.":MAILTO:kontakt@ge-nuss-ecke.de
END:VEVENT
BEGIN:VEVENT
DTSTART;TZID=Europe/Berlin:20260309T143000
DTEND;TZID=Europe/Berlin:20260309T163000
DTSTAMP:20260421T090118
CREATED:20260107T140208Z
LAST-MODIFIED:20260118T160036Z
UID:1810-1773066600-1773073800@ge-nuss-ecke.de
SUMMARY:Maschen und Naschen
DESCRIPTION:Kommt vorbei zum beliebten wöchentlichen Verzählcher mit Pia und Renate \nBringt eure Häkel- Strick oder Sticknadeln mit zum fleißigem Handarbeiten. \nGemeinsam\, gemütlich handarbeiten und sich gegenseitig unterstützen. \nGenussvoll Kaffee und Kuchen genießen. \nBild erstellt mit Canva
URL:https://ge-nuss-ecke.de/event/maschen-und-naschen-46/
LOCATION:Ge-Nuss-Ecke\, Lannesdorfer Str. 2 - 4\, Bonn
ATTACH;FMTTYPE=image/jpeg:https://ge-nuss-ecke.de/wp-content/uploads/2026/01/2026_Maschen-und-Naschen-2.jpg
ORGANIZER;CN="Freunde der Ge-Nuss-Ecke e.V.":MAILTO:kontakt@ge-nuss-ecke.de
END:VEVENT
BEGIN:VEVENT
DTSTART;TZID=Europe/Berlin:20260309T180000
DTEND;TZID=Europe/Berlin:20260309T193000
DTSTAMP:20260421T090118
CREATED:20260305T151714Z
LAST-MODIFIED:20260305T151714Z
UID:2217-1773079200-1773084600@ge-nuss-ecke.de
SUMMARY:Gemeinsam Musizieren
DESCRIPTION:Herzlich willkommen! \nWir spielen derzeit Folk-Musik und Tango. \nWenn du ein Instrument beherrschst und Lust hast\, in einem kleinen\, selbst organisiertem Ensemble zu spielen\, dann melde dich! \nBild erstellt mit Canva
URL:https://ge-nuss-ecke.de/event/gemeinsam-musizieren-5/
LOCATION:Ge-Nuss-Ecke\, Lannesdorfer Str. 2 - 4\, Bonn
CATEGORIES:Musikevents
ORGANIZER;CN="Freunde der Ge-Nuss-Ecke e.V.":MAILTO:kontakt@ge-nuss-ecke.de
END:VEVENT
BEGIN:VEVENT
DTSTART;TZID=Europe/Berlin:20260311T160000
DTEND;TZID=Europe/Berlin:20260311T180000
DTSTAMP:20260421T090118
CREATED:20260228T055949Z
LAST-MODIFIED:20260228T060016Z
UID:2186-1773244800-1773252000@ge-nuss-ecke.de
SUMMARY:Gemeinsam statt Einsam
DESCRIPTION:  \n  \n  \n  \n  \n  \n  \n  \n  \nHast du Lust dich mit anderen auszutauschen? \nNeue Ideen zu entwickeln? \nOder kannst du unterstützend helfen bei Fragen rund ums Handy? \nIngrid und Carola schaffen in der Ge-Nuss-Ecke einen Raum für dich und alle anderen. \nZusammen ist man weniger alleine \nKomm vorbei auf eine Tasse Tee \nBild erstellt mit Canva
URL:https://ge-nuss-ecke.de/event/gemeinsam-statt-einsam-7/
LOCATION:Ge-Nuss-Ecke\, Lannesdorfer Str. 2 - 4\, Bonn
ORGANIZER;CN="Freunde der Ge-Nuss-Ecke e.V.":MAILTO:kontakt@ge-nuss-ecke.de
END:VEVENT
BEGIN:VEVENT
DTSTART;TZID=Europe/Berlin:20260312T180000
DTEND;TZID=Europe/Berlin:20260312T210000
DTSTAMP:20260421T090118
CREATED:20260116T151948Z
LAST-MODIFIED:20260228T141057Z
UID:1969-1773338400-1773349200@ge-nuss-ecke.de
SUMMARY:Kein Spieleabend- Kleine Pause im März- im April geht es weiter
DESCRIPTION:Mit Michael und Lisa \nKommt vorbei und spielt mit. \nVielleicht habt ihr ein Spiel und sucht Mitspieler? Dann herein spaziert! \nVielleicht hast du Lust etwas neues auszuprobieren? Dann herein spaziert! \nJeden zweiten und vierten Donnerstag im Monat! \nBild erstellt mit Canva
URL:https://ge-nuss-ecke.de/event/spieleabend-20/
LOCATION:Ge-Nuss-Ecke\, Lannesdorfer Str. 2 - 4\, Bonn
ATTACH;FMTTYPE=image/jpeg:https://ge-nuss-ecke.de/wp-content/uploads/2026/01/2026_Spielabend-Berufstaetige.jpg
ORGANIZER;CN="Freunde der Ge-Nuss-Ecke e.V.":MAILTO:kontakt@ge-nuss-ecke.de
END:VEVENT
BEGIN:VEVENT
DTSTART;TZID=Europe/Berlin:20260313T180000
DTEND;TZID=Europe/Berlin:20260313T200000
DTSTAMP:20260421T090118
CREATED:20251116T145259Z
LAST-MODIFIED:20260123T053042Z
UID:1632-1773424800-1773432000@ge-nuss-ecke.de
SUMMARY:Orion II                    Grenzenlose Musik- Musik ohne Grenzen
DESCRIPTION:Eine Klangreise rund um den Erdball \nRhythmen und Klänge aus alle Welt \nzum Zuhören\, Entspannen und Genießen \n  \nUns erwartet ein Konzert über alle Kontinente und über alle Musikrichtungen hinweg. \nBild erstellt von Didi Didier
URL:https://ge-nuss-ecke.de/event/grenzenlose-musik-musik-ohne-grenzen/
LOCATION:Ge-Nuss-Ecke\, Lannesdorfer Str. 2 - 4\, Bonn
ATTACH;FMTTYPE=image/jpeg:https://ge-nuss-ecke.de/wp-content/uploads/2025/11/2026_03_13-OrionII.jpg
END:VEVENT
BEGIN:VEVENT
DTSTART;TZID=Europe/Berlin:20260316T143000
DTEND;TZID=Europe/Berlin:20260316T163000
DTSTAMP:20260421T090118
CREATED:20260107T140417Z
LAST-MODIFIED:20260118T155906Z
UID:1812-1773671400-1773678600@ge-nuss-ecke.de
SUMMARY:Maschen und Naschen
DESCRIPTION:Kommt vorbei zum beliebten wöchentlichen Verzählcher mit Pia und Renate \nBringt eure Häkel- Strick oder Sticknadeln mit zum fleißigem Handarbeiten. \nGemeinsam\, gemütlich handarbeiten und sich gegenseitig unterstützen. \nGenussvoll Kaffee und Kuchen genießen. \nBild erstellt mit Canva
URL:https://ge-nuss-ecke.de/event/maschen-und-naschen-47/
LOCATION:Ge-Nuss-Ecke\, Lannesdorfer Str. 2 - 4\, Bonn
ATTACH;FMTTYPE=image/jpeg:https://ge-nuss-ecke.de/wp-content/uploads/2026/01/2026_Maschen-und-Naschen-2.jpg
ORGANIZER;CN="Freunde der Ge-Nuss-Ecke e.V.":MAILTO:kontakt@ge-nuss-ecke.de
END:VEVENT
BEGIN:VEVENT
DTSTART;TZID=Europe/Berlin:20260317T180000
DTEND;TZID=Europe/Berlin:20260317T193000
DTSTAMP:20260421T090118
CREATED:20260123T052254Z
LAST-MODIFIED:20260317T163735Z
UID:2026-1773770400-1773775800@ge-nuss-ecke.de
SUMMARY:Schlemmen für den guten Zweck
DESCRIPTION:Die Freunde der Ge-Nuss-Ecke e.V. kochen für euch zur kulinarischen Einstimmung auf den Liederabend mit Katharina Wingen und den Cross Over Sisters. \nIrish Stew \n(Möhren-Kartoffel-Eintopf mit Lammfleisch oder mit Soja) \nMit und ohne Fleisch 🙂 \nEssen und Trinken zu fairen Preisen \nBild erstellt mit Canva
URL:https://ge-nuss-ecke.de/event/schlemmen-fuer-den-guten-zweck-2/
LOCATION:Ge-Nuss-Ecke\, Lannesdorfer Str. 2 - 4\, Bonn
ATTACH;FMTTYPE=image/jpeg:https://ge-nuss-ecke.de/wp-content/uploads/2026/01/2026_03_17-Speisekarte.jpg
ORGANIZER;CN="Freunde der Ge-Nuss-Ecke e.V.":MAILTO:kontakt@ge-nuss-ecke.de
END:VEVENT
BEGIN:VEVENT
DTSTART;TZID=Europe/Berlin:20260317T193000
DTEND;TZID=Europe/Berlin:20260317T213000
DTSTAMP:20260421T090118
CREATED:20251210T052254Z
LAST-MODIFIED:20260317T163917Z
UID:1688-1773775800-1773783000@ge-nuss-ecke.de
SUMMARY:Irland schmecken und hören
DESCRIPTION:Vorankündigung! \nWir planen mit Katharina Wingen einen „Ausflug“ nach Irland über den Gaumen und die Ohren. \nWeitere Infos folgen bald \nBild erstellt mit Canva \n 
URL:https://ge-nuss-ecke.de/event/irland-schmecken-und-hoeren/
LOCATION:Ge-Nuss-Ecke\, Lannesdorfer Str. 2 - 4\, Bonn
ATTACH;FMTTYPE=image/jpeg:https://ge-nuss-ecke.de/wp-content/uploads/2025/12/2026_03_17-Irland-schmecken-und-hoeren.jpg
ORGANIZER;CN="Freunde der Ge-Nuss-Ecke e.V.":MAILTO:kontakt@ge-nuss-ecke.de
END:VEVENT
BEGIN:VEVENT
DTSTART;TZID=Europe/Berlin:20260318T160000
DTEND;TZID=Europe/Berlin:20260318T180000
DTSTAMP:20260421T090118
CREATED:20260228T060320Z
LAST-MODIFIED:20260228T060320Z
UID:2191-1773849600-1773856800@ge-nuss-ecke.de
SUMMARY:Gemeinsam statt Einsam
DESCRIPTION:  \n  \n  \n  \n  \n  \n  \n  \n  \nHast du Lust dich mit anderen auszutauschen? \nNeue Ideen zu entwickeln? \nOder kannst du unterstützend helfen bei Fragen rund ums Handy? \nIngrid und Carola schaffen in der Ge-Nuss-Ecke einen Raum für dich und alle anderen. \nZusammen ist man weniger alleine \nKomm vorbei auf eine Tasse Tee \nBild erstellt mit Canva
URL:https://ge-nuss-ecke.de/event/gemeinsam-statt-einsam-8/
LOCATION:Ge-Nuss-Ecke\, Lannesdorfer Str. 2 - 4\, Bonn
ORGANIZER;CN="Freunde der Ge-Nuss-Ecke e.V.":MAILTO:kontakt@ge-nuss-ecke.de
END:VEVENT
BEGIN:VEVENT
DTSTART;TZID=Europe/Berlin:20260320T113000
DTEND;TZID=Europe/Berlin:20260320T123000
DTSTAMP:20260421T090118
CREATED:20251231T133217Z
LAST-MODIFIED:20260107T124231Z
UID:1730-1774006200-1774009800@ge-nuss-ecke.de
SUMMARY:Singen mit Wingen
DESCRIPTION:Sing mit und freu dich an der Musik! \nKatharina gibt dir Inspirationen! \nDu wünscht ein bestimmtes Lied zu singen? \nKatharina freut sich auf deinen Vorschlag \nTipps vom Profi und gemeinsam Singen machen glücklich \nBild folgt mit Canva
URL:https://ge-nuss-ecke.de/event/singen-mit-wingen-8/
LOCATION:Ge-Nuss-Ecke\, Lannesdorfer Str. 2 - 4\, Bonn
ATTACH;FMTTYPE=image/jpeg:https://ge-nuss-ecke.de/wp-content/uploads/2025/12/2026_Singen-mit-Wingen.jpg
ORGANIZER;CN="Freunde der Ge-Nuss-Ecke e.V.":MAILTO:kontakt@ge-nuss-ecke.de
END:VEVENT
BEGIN:VEVENT
DTSTART;TZID=Europe/Berlin:20260320T170000
DTEND;TZID=Europe/Berlin:20260320T183000
DTSTAMP:20260421T090118
CREATED:20260123T050852Z
LAST-MODIFIED:20260201T133643Z
UID:2022-1774026000-1774031400@ge-nuss-ecke.de
SUMMARY:Schlemmen für den guten Zweck
DESCRIPTION:Die Freunde der Ge-Nuss-Ecke e.V. kochen für euch und stimmen euch kulinarisch auf den französischen Liederabend ein. \nMit Flammkuchen klassisch oder vegetarisch. \nWir bitten um Reservierung unter kontakt@ge-nuss-ecke.de \nBild erstellt mit Canva
URL:https://ge-nuss-ecke.de/event/schlemmen-fuer-den-guten-zweck/
LOCATION:Ge-Nuss-Ecke\, Lannesdorfer Str. 2 - 4\, Bonn
ATTACH;FMTTYPE=image/jpeg:https://ge-nuss-ecke.de/wp-content/uploads/2026/01/2026_03_20-Schlemmen.jpg
ORGANIZER;CN="Freunde der Ge-Nuss-Ecke e.V.":MAILTO:kontakt@ge-nuss-ecke.de
END:VEVENT
BEGIN:VEVENT
DTSTART;TZID=Europe/Berlin:20260320T180000
DTEND;TZID=Europe/Berlin:20260320T193000
DTSTAMP:20260421T090118
CREATED:20260123T050450Z
LAST-MODIFIED:20260123T050450Z
UID:2019-1774029600-1774035000@ge-nuss-ecke.de
SUMMARY:Liederabend mit Jean
DESCRIPTION:Jean Baril ist wieder zu Gast in der Ge-Nuss-Ecke! \nMit seiner melodischen Stimme und dem französischen Akzent verzaubert er die Zuhörenden. \nEr spielt Gitarre und singt\, nicht nur\, französische Lieder. \nDie Freunde der Ge-Nuss-Ecke e.V. bieten kulinarisch dazu Flammkuchen an. \nDer Eintritt ist frei- Es geht ein Hut für den Künstler herum. \nDas Essen und Trinken wird zu fairen Preisen verkauft. \nUm Reservierung wird gebeten unter kontakt@ge-nuss-ecke.de \nBild erstellt mit Cana \n 
URL:https://ge-nuss-ecke.de/event/liederabend-mit-jean/
LOCATION:Ge-Nuss-Ecke\, Lannesdorfer Str. 2 - 4\, Bonn
CATEGORIES:Musikevents
ATTACH;FMTTYPE=image/jpeg:https://ge-nuss-ecke.de/wp-content/uploads/2026/01/2026_03_20-Jean-Baril.jpg
ORGANIZER;CN="Freunde der Ge-Nuss-Ecke e.V.":MAILTO:kontakt@ge-nuss-ecke.de
END:VEVENT
BEGIN:VEVENT
DTSTART;TZID=Europe/Berlin:20260323T143000
DTEND;TZID=Europe/Berlin:20260323T163000
DTSTAMP:20260421T090118
CREATED:20260107T140548Z
LAST-MODIFIED:20260118T155757Z
UID:1814-1774276200-1774283400@ge-nuss-ecke.de
SUMMARY:Maschen und Naschen
DESCRIPTION:Kommt vorbei zum beliebten wöchentlichen Verzählcher mit Pia und Renate \nBringt eure Häkel- Strick oder Sticknadeln mit zum fleißigem Handarbeiten. \nGemeinsam\, gemütlich handarbeiten und sich gegenseitig unterstützen. \nGenussvoll Kaffee und Kuchen genießen. \nBild erstellt mit Canva
URL:https://ge-nuss-ecke.de/event/maschen-und-naschen-48/
LOCATION:Ge-Nuss-Ecke\, Lannesdorfer Str. 2 - 4\, Bonn
ATTACH;FMTTYPE=image/jpeg:https://ge-nuss-ecke.de/wp-content/uploads/2026/01/2026_Maschen-und-Naschen-2.jpg
ORGANIZER;CN="Freunde der Ge-Nuss-Ecke e.V.":MAILTO:kontakt@ge-nuss-ecke.de
END:VEVENT
BEGIN:VEVENT
DTSTART;TZID=Europe/Berlin:20260323T180000
DTEND;TZID=Europe/Berlin:20260323T193000
DTSTAMP:20260421T090118
CREATED:20260305T151913Z
LAST-MODIFIED:20260305T161421Z
UID:2219-1774288800-1774294200@ge-nuss-ecke.de
SUMMARY:Gemeinsam Musizieren
DESCRIPTION:Herzlich willkommen! \nWir spielen derzeit Folk-Musik und Tango. \nWenn du ein Instrument beherrschst und Lust hast\, in einem kleinen\, selbst organisiertem Ensemble zu spielen\, dann melde dich! \nBild erstellt mit Canva \n 
URL:https://ge-nuss-ecke.de/event/gemeinsam-musizieren-6/
LOCATION:Ge-Nuss-Ecke\, Lannesdorfer Str. 2 - 4\, Bonn
ORGANIZER;CN="Freunde der Ge-Nuss-Ecke e.V.":MAILTO:kontakt@ge-nuss-ecke.de
END:VEVENT
BEGIN:VEVENT
DTSTART;TZID=Europe/Berlin:20260325T160000
DTEND;TZID=Europe/Berlin:20260325T180000
DTSTAMP:20260421T090118
CREATED:20260228T060423Z
LAST-MODIFIED:20260228T060423Z
UID:2193-1774454400-1774461600@ge-nuss-ecke.de
SUMMARY:Gemeinsam statt Einsam
DESCRIPTION:  \n  \n  \n  \n  \n  \n  \n  \n  \nHast du Lust dich mit anderen auszutauschen? \nNeue Ideen zu entwickeln? \nOder kannst du unterstützend helfen bei Fragen rund ums Handy? \nIngrid und Carola schaffen in der Ge-Nuss-Ecke einen Raum für dich und alle anderen. \nZusammen ist man weniger alleine \nKomm vorbei auf eine Tasse Tee \nBild erstellt mit Canva
URL:https://ge-nuss-ecke.de/event/gemeinsam-statt-einsam-9/
LOCATION:Ge-Nuss-Ecke\, Lannesdorfer Str. 2 - 4\, Bonn
ORGANIZER;CN="Freunde der Ge-Nuss-Ecke e.V.":MAILTO:kontakt@ge-nuss-ecke.de
END:VEVENT
BEGIN:VEVENT
DTSTART;TZID=Europe/Berlin:20260326T180000
DTEND;TZID=Europe/Berlin:20260326T210000
DTSTAMP:20260421T090118
CREATED:20260116T152255Z
LAST-MODIFIED:20260228T140945Z
UID:1971-1774548000-1774558800@ge-nuss-ecke.de
SUMMARY:Kein Spieleabend- kleine Pause im März - im April geht es weiter
DESCRIPTION:Lisa\, Michael und Huseyin freuen sich auf dich! \nKommt vorbei und spielt mit. \nVielleicht habt ihr ein Spiel und sucht Mitspieler? Dann herein spaziert! \nVielleicht hast du Lust etwas neues auszuprobieren? Dann herein spaziert! \nJeden zweiten und vierten Donnerstag im Monat! \nBild erstellt mit Canva
URL:https://ge-nuss-ecke.de/event/spieleabend-21/
LOCATION:Ge-Nuss-Ecke\, Lannesdorfer Str. 2 - 4\, Bonn
ATTACH;FMTTYPE=image/jpeg:https://ge-nuss-ecke.de/wp-content/uploads/2026/01/2026_Spielabend-Berufstaetige.jpg
ORGANIZER;CN="Freunde der Ge-Nuss-Ecke e.V.":MAILTO:kontakt@ge-nuss-ecke.de
END:VEVENT
BEGIN:VEVENT
DTSTART;TZID=Europe/Berlin:20260327T190000
DTEND;TZID=Europe/Berlin:20260327T220000
DTSTAMP:20260421T090118
CREATED:20260212T124124Z
LAST-MODIFIED:20260212T124124Z
UID:2142-1774638000-1774648800@ge-nuss-ecke.de
SUMMARY:Slow Food Olivenöl Verköstigung
DESCRIPTION:In Kooperation mit Slow Food Bonn \nWir laden ein zu einer besonderen Verkostung\, bei der Sie die Vielfalt und Qualität außergewöhnlicher nativer Olivenöle extra riechen\, schmecken und erleben können. Mit sieben sorgfältig ausgewählten\, hochwertigen Olivenölen aus Spanien\, Portugal\, Frankreich\, Italien\, Kroatien\, Griechenland und Tunesien nimmt Thomas Riedl Sie mit auf eine kulinarische Reise rund um das Mittelmeer. Jedes Öl erzählt seine Geschichte – geprägt von Klima\, Boden\, Olivensorten und der Leidenschaft der Produzent*innen. \nGemeinsam verkosten wir die Öle pur\, schärfen unsere Sinne für Aromen\, Bitterkeit und Schärfe und sprechen über handwerkliche Herstellung\, Qualität\, Frische und Herkunft. Dabei geht es nicht um Bewertungen im Wettbewerbssinn\, sondern um bewussten Genuss\, Wissen und Wertschätzung – ganz im Sinne von Slow Food: Gut\, sauber und fair. \nDie Verkostung richtet sich an alle\, die Olivenöl bewusster genießen möchten – ob Einsteiger*in oder Kenner*in – Neugier und Freude am Geschmack stehen im Mittelpunkt! \nDazu gibt es gutes Brot\, einen feinen Linsensalat und ausgezeichneten Weißwein. Alle Teilnehmer*innen erhalten ein umfangreiches Dossier zum Thema Olivenöl mit aktuellen Bezugsquellen. \nBitte beachten: \nDie Teilnahmegebühr beträgt 32\,00 € für Slowfood-Mitglieder und 37\,00 € für Nichtmitglieder und ist mit der verbindlichen Anmeldung bitte bis zum 20. März 2026 vorab auf das Konto von: \nAchim Ziss c/o Slow Food\nIBAN DE39 4306 0967 4092 1752 00\nBIC GENODEM1GLS \nzu überweisen. \nBitte beachtet / beachten Sie: Die Anmeldung ist erst nach Eingang der Zahlung gültig. Ein Rücktritt von der Anmeldung kann bis 72 Stunden vorher erfolgen. Bei späterer Abmeldung oder Nicht-Erscheinen kann eine Rückerstattung nur erfolgen\, wenn kurzfristig Ersatz gefunden werden konnte. \nBild erstellt mit Canva \nDas grüne Gold vom Mittelmeer — Slow Food Deutschland
URL:https://ge-nuss-ecke.de/event/slow-food-olivenoel-verkoestigung/
LOCATION:Ge-Nuss-Ecke\, Lannesdorfer Str. 2 - 4\, Bonn
ATTACH;FMTTYPE=image/jpeg:https://ge-nuss-ecke.de/wp-content/uploads/2026/02/2026_03_27-Slowfood-Olivenoel.jpg
ORGANIZER;CN="Slow Food":MAILTO:bonn@slowfood.de
END:VEVENT
BEGIN:VEVENT
DTSTART;TZID=Europe/Berlin:20260330T143000
DTEND;TZID=Europe/Berlin:20260330T163000
DTSTAMP:20260421T090118
CREATED:20260107T141657Z
LAST-MODIFIED:20260118T155657Z
UID:1817-1774881000-1774888200@ge-nuss-ecke.de
SUMMARY:Maschen und Naschen
DESCRIPTION:Kommt vorbei zum beliebten wöchentlichen Verzählcher mit Pia und Renate \nBringt eure Häkel- Strick oder Sticknadeln mit zum fleißigem Handarbeiten. \nGemeinsam\, gemütlich handarbeiten und sich gegenseitig unterstützen. \nGenussvoll Kaffee und Kuchen genießen. \nBild erstellt mit Canva
URL:https://ge-nuss-ecke.de/event/maschen-und-naschen-49/
LOCATION:Ge-Nuss-Ecke\, Lannesdorfer Str. 2 - 4\, Bonn
ATTACH;FMTTYPE=image/jpeg:https://ge-nuss-ecke.de/wp-content/uploads/2026/01/2026_Maschen-und-Naschen-2.jpg
ORGANIZER;CN="Freunde der Ge-Nuss-Ecke e.V.":MAILTO:kontakt@ge-nuss-ecke.de
END:VEVENT
END:VCALENDAR