BEGIN:VCALENDAR
VERSION:2.0
PRODID:-//Ge-Nuss-Ecke - ECPv6.15.20//NONSGML v1.0//EN
CALSCALE:GREGORIAN
METHOD:PUBLISH
X-ORIGINAL-URL:https://ge-nuss-ecke.de
X-WR-CALDESC:Veranstaltungen für Ge-Nuss-Ecke
REFRESH-INTERVAL;VALUE=DURATION:PT1H
X-Robots-Tag:noindex
X-PUBLISHED-TTL:PT1H
BEGIN:VTIMEZONE
TZID:Europe/Berlin
BEGIN:DAYLIGHT
TZOFFSETFROM:+0100
TZOFFSETTO:+0200
TZNAME:CEST
DTSTART:20240331T010000
END:DAYLIGHT
BEGIN:STANDARD
TZOFFSETFROM:+0200
TZOFFSETTO:+0100
TZNAME:CET
DTSTART:20241027T010000
END:STANDARD
BEGIN:DAYLIGHT
TZOFFSETFROM:+0100
TZOFFSETTO:+0200
TZNAME:CEST
DTSTART:20250330T010000
END:DAYLIGHT
BEGIN:STANDARD
TZOFFSETFROM:+0200
TZOFFSETTO:+0100
TZNAME:CET
DTSTART:20251026T010000
END:STANDARD
BEGIN:DAYLIGHT
TZOFFSETFROM:+0100
TZOFFSETTO:+0200
TZNAME:CEST
DTSTART:20260329T010000
END:DAYLIGHT
BEGIN:STANDARD
TZOFFSETFROM:+0200
TZOFFSETTO:+0100
TZNAME:CET
DTSTART:20261025T010000
END:STANDARD
END:VTIMEZONE
BEGIN:VEVENT
DTSTART;TZID=Europe/Berlin:20250919T113000
DTEND;TZID=Europe/Berlin:20250919T123000
DTSTAMP:20260420T150745
CREATED:20250823T132659Z
LAST-MODIFIED:20250916T051920Z
UID:1419-1758281400-1758285000@ge-nuss-ecke.de
SUMMARY:Verschiebung Singen mit Wingen
DESCRIPTION:Leider müssen wir den Termin verschieben! \nSobald ein neuer Termin feststeht geben wir dies bekannt! \nSingen ist gesund! \nSingen ist was fürs Herz und die Seele \nUnd das alles verkörpert Katharina Wingen! \nKommt in die Ge-Nuss-Ecke \nMögt ihr bestimmte Lieder singen? \nDann schickt uns eure Wünsche an kontakte@ge-nuss-ecke.de \nBild erstellt mit Canva
URL:https://ge-nuss-ecke.de/event/singen-mit-wingen-3/
LOCATION:Ge-Nuss-Ecke\, Lannesdorfer Str. 2 - 4\, Bonn
CATEGORIES:Musikevents
ATTACH;FMTTYPE=image/jpeg:https://ge-nuss-ecke.de/wp-content/uploads/2025/08/Absage_Mitsingen-19.9.25.jpg
ORGANIZER;CN="Freunde der Ge-Nuss-Ecke e.V.":MAILTO:kontakt@ge-nuss-ecke.de
END:VEVENT
BEGIN:VEVENT
DTSTART;TZID=Europe/Berlin:20250928T110000
DTEND;TZID=Europe/Berlin:20250928T140000
DTSTAMP:20260420T150745
CREATED:20250525T125247Z
LAST-MODIFIED:20250929T043752Z
UID:1180-1759057200-1759068000@ge-nuss-ecke.de
SUMMARY:Abgesagt mangels ausreichender Anmeldungen Mitsing Konzert Kinderlieder
DESCRIPTION:Gemeinsam singen verbindet Generationen \nKatharina Wingen führt durch die Welt der Kinderlieder und freut sich auf Jung und Alt. \nKomm und sing mit \nEintritt frei \nBild erstellt mit Canva
URL:https://ge-nuss-ecke.de/event/mitsing-konzert-kinderlieder/
LOCATION:Ge-Nuss-Ecke\, Lannesdorfer Str. 2 - 4\, Bonn
ATTACH;FMTTYPE=image/jpeg:https://ge-nuss-ecke.de/wp-content/uploads/2025/05/Kinderlieder-Konzert.jpg
ORGANIZER;CN="Freunde der Ge-Nuss-Ecke e.V.":MAILTO:kontakt@ge-nuss-ecke.de
END:VEVENT
END:VCALENDAR