BEGIN:VCALENDAR
VERSION:2.0
PRODID:-//Ge-Nuss-Ecke - ECPv6.15.20//NONSGML v1.0//EN
CALSCALE:GREGORIAN
METHOD:PUBLISH
X-WR-CALNAME:Ge-Nuss-Ecke
X-ORIGINAL-URL:https://ge-nuss-ecke.de
X-WR-CALDESC:Veranstaltungen für Ge-Nuss-Ecke
REFRESH-INTERVAL;VALUE=DURATION:PT1H
X-Robots-Tag:noindex
X-PUBLISHED-TTL:PT1H
BEGIN:VTIMEZONE
TZID:Europe/Berlin
BEGIN:DAYLIGHT
TZOFFSETFROM:+0100
TZOFFSETTO:+0200
TZNAME:CEST
DTSTART:20250330T010000
END:DAYLIGHT
BEGIN:STANDARD
TZOFFSETFROM:+0200
TZOFFSETTO:+0100
TZNAME:CET
DTSTART:20251026T010000
END:STANDARD
BEGIN:DAYLIGHT
TZOFFSETFROM:+0100
TZOFFSETTO:+0200
TZNAME:CEST
DTSTART:20260329T010000
END:DAYLIGHT
BEGIN:STANDARD
TZOFFSETFROM:+0200
TZOFFSETTO:+0100
TZNAME:CET
DTSTART:20261025T010000
END:STANDARD
BEGIN:DAYLIGHT
TZOFFSETFROM:+0100
TZOFFSETTO:+0200
TZNAME:CEST
DTSTART:20270328T010000
END:DAYLIGHT
BEGIN:STANDARD
TZOFFSETFROM:+0200
TZOFFSETTO:+0100
TZNAME:CET
DTSTART:20271031T010000
END:STANDARD
END:VTIMEZONE
BEGIN:VEVENT
DTSTART;TZID=Europe/Berlin:20261107T170000
DTEND;TZID=Europe/Berlin:20261107T200000
DTSTAMP:20260424T072550
CREATED:20251122T124442Z
LAST-MODIFIED:20251122T124442Z
UID:1664-1794070800-1794081600@ge-nuss-ecke.de
SUMMARY:K-Pop Konzert Ankündigung
DESCRIPTION:Katharinas Gesangsschülerinnen sind perfekte K-Pop Interpreten und möchten euch auf Ihre Reise durch die Welt des koreanischen Musikstils mitnehmen. \nSchlemmen für den guten Zweck: Die ehrenamtlichen Helfenden lassen sich etwas leckeres „asiatisches“ einfallen. \nDer Eintritt ist kostenfrei \nBild erfolgt später…die Sängerinnen gestalten etwas \n 
URL:https://ge-nuss-ecke.de/event/k-pop-konzert-ankuendigung/
LOCATION:Ge-Nuss-Ecke\, Lannesdorfer Str. 2 - 4\, Bonn
ORGANIZER;CN="Freunde der Ge-Nuss-Ecke e.V.":MAILTO:kontakt@ge-nuss-ecke.de
END:VEVENT
BEGIN:VEVENT
DTSTART;TZID=Europe/Berlin:20261120T113000
DTEND;TZID=Europe/Berlin:20261120T123000
DTSTAMP:20260424T072550
CREATED:20260107T125633Z
LAST-MODIFIED:20260107T125633Z
UID:1786-1795174200-1795177800@ge-nuss-ecke.de
SUMMARY:Singen mit Wingen
DESCRIPTION:Sing mit und freu dich an der Musik! \nKatharina gibt dir Inspirationen! \nDu wünscht ein bestimmtes Lied zu singen? \nKatharina freut sich auf deinen Vorschlag \nTipps vom Profi und gemeinsam Singen machen glücklich \nBild folgt mit Canva
URL:https://ge-nuss-ecke.de/event/singen-mit-wingen-15/
LOCATION:Ge-Nuss-Ecke\, Lannesdorfer Str. 2 - 4\, Bonn
ATTACH;FMTTYPE=image/jpeg:https://ge-nuss-ecke.de/wp-content/uploads/2025/12/2026_Singen-mit-Wingen.jpg
ORGANIZER;CN="Freunde der Ge-Nuss-Ecke e.V.":MAILTO:kontakt@ge-nuss-ecke.de
END:VEVENT
END:VCALENDAR