BEGIN:VCALENDAR
VERSION:2.0
PRODID:-//Ge-Nuss-Ecke - ECPv6.15.20//NONSGML v1.0//EN
CALSCALE:GREGORIAN
METHOD:PUBLISH
X-WR-CALNAME:Ge-Nuss-Ecke
X-ORIGINAL-URL:https://ge-nuss-ecke.de
X-WR-CALDESC:Veranstaltungen für Ge-Nuss-Ecke
REFRESH-INTERVAL;VALUE=DURATION:PT1H
X-Robots-Tag:noindex
X-PUBLISHED-TTL:PT1H
BEGIN:VTIMEZONE
TZID:Europe/Berlin
BEGIN:DAYLIGHT
TZOFFSETFROM:+0100
TZOFFSETTO:+0200
TZNAME:CEST
DTSTART:20240331T010000
END:DAYLIGHT
BEGIN:STANDARD
TZOFFSETFROM:+0200
TZOFFSETTO:+0100
TZNAME:CET
DTSTART:20241027T010000
END:STANDARD
BEGIN:DAYLIGHT
TZOFFSETFROM:+0100
TZOFFSETTO:+0200
TZNAME:CEST
DTSTART:20250330T010000
END:DAYLIGHT
BEGIN:STANDARD
TZOFFSETFROM:+0200
TZOFFSETTO:+0100
TZNAME:CET
DTSTART:20251026T010000
END:STANDARD
BEGIN:DAYLIGHT
TZOFFSETFROM:+0100
TZOFFSETTO:+0200
TZNAME:CEST
DTSTART:20260329T010000
END:DAYLIGHT
BEGIN:STANDARD
TZOFFSETFROM:+0200
TZOFFSETTO:+0100
TZNAME:CET
DTSTART:20261025T010000
END:STANDARD
END:VTIMEZONE
BEGIN:VEVENT
DTSTART;TZID=Europe/Berlin:20250906T160000
DTEND;TZID=Europe/Berlin:20250906T220000
DTSTAMP:20260421T193757
CREATED:20250625T043956Z
LAST-MODIFIED:20250714T113636Z
UID:1227-1757174400-1757196000@ge-nuss-ecke.de
SUMMARY:Buntes Dinner
DESCRIPTION:Der Arbeitskreis Kultur(räume) und Begegnung\, bestehend aus dem Quartiersmanagement Lannesdorf\, dem Ortsausschuss Lannesdorf e.V.\, den Freunden der Ge-Nuss-Ecke e.V.\, und vielen weiteren organisiert ein Straßenfest auf der Lannesdorfer Straße. \nUnterstützt von dem Förderverein der Sparkasse werden alle eingeladen sich an die Tische zu setzten und miteinander zu feiern. \nJeder bringt etwas mit und teilt es mit anderen. \nDurch mitgebrachtes Geschirr und Dekoration entsteht ein buntes Bild von Lannesdorf. \nFeiert mit uns! \nBild mit Canva erstellt
URL:https://ge-nuss-ecke.de/event/buntes-dinner/
ATTACH;FMTTYPE=image/jpeg:https://ge-nuss-ecke.de/wp-content/uploads/2025/06/2025_09_06-Bitte-vormerken.jpg
END:VEVENT
END:VCALENDAR