BEGIN:VCALENDAR
VERSION:2.0
PRODID:-//Ge-Nuss-Ecke - ECPv6.15.20//NONSGML v1.0//EN
CALSCALE:GREGORIAN
METHOD:PUBLISH
X-WR-CALNAME:Ge-Nuss-Ecke
X-ORIGINAL-URL:https://ge-nuss-ecke.de
X-WR-CALDESC:Veranstaltungen für Ge-Nuss-Ecke
REFRESH-INTERVAL;VALUE=DURATION:PT1H
X-Robots-Tag:noindex
X-PUBLISHED-TTL:PT1H
BEGIN:VTIMEZONE
TZID:Europe/Berlin
BEGIN:DAYLIGHT
TZOFFSETFROM:+0100
TZOFFSETTO:+0200
TZNAME:CEST
DTSTART:20250330T010000
END:DAYLIGHT
BEGIN:STANDARD
TZOFFSETFROM:+0200
TZOFFSETTO:+0100
TZNAME:CET
DTSTART:20251026T010000
END:STANDARD
BEGIN:DAYLIGHT
TZOFFSETFROM:+0100
TZOFFSETTO:+0200
TZNAME:CEST
DTSTART:20260329T010000
END:DAYLIGHT
BEGIN:STANDARD
TZOFFSETFROM:+0200
TZOFFSETTO:+0100
TZNAME:CET
DTSTART:20261025T010000
END:STANDARD
BEGIN:DAYLIGHT
TZOFFSETFROM:+0100
TZOFFSETTO:+0200
TZNAME:CEST
DTSTART:20270328T010000
END:DAYLIGHT
BEGIN:STANDARD
TZOFFSETFROM:+0200
TZOFFSETTO:+0100
TZNAME:CET
DTSTART:20271031T010000
END:STANDARD
END:VTIMEZONE
BEGIN:VEVENT
DTSTART;TZID=Europe/Berlin:20260308T170000
DTEND;TZID=Europe/Berlin:20260308T183000
DTSTAMP:20260423T135558
CREATED:20260306T051933Z
LAST-MODIFIED:20260307T121630Z
UID:2225-1772989200-1772994600@ge-nuss-ecke.de
SUMMARY:Programmänderung! Blaue Stunde- ein Wohnzimmerkonzert mit Orion II statt "Please hold the line"
DESCRIPTION:Programmänderung! \nLeider muss das Wohnzimmerkonzert mit „Please hold the line“ krankheitsbedingt ausfallen. \nWir wünschen der Sängerin gute und schnelle Besserung. \nDie gute Nachricht: \nDie Band Orion II übernimmt! \nFreut euch auf eine musikalische Reise um den Erdball mit Samba\, Cha-Cha-Cha und vielen internationalen Rhythmen! \nEintritt gebührenfrei- Es geht ein Hut für die Künstler herum! \nGetränke und Snacks zu fairen Preisen \nBild erstellt mit Canva
URL:https://ge-nuss-ecke.de/event/blaue-stunde-ein-wohnzimmerkonzert-mit-please-hold-the-line/
LOCATION:Ge-Nuss-Ecke\, Lannesdorfer Str. 2 - 4\, Bonn
CATEGORIES:Musikevents
ATTACH;FMTTYPE=image/jpeg:https://ge-nuss-ecke.de/wp-content/uploads/2026/02/2026_03_08-Blaue-Stunde.jpg
ORGANIZER;CN="Freunde der Ge-Nuss-Ecke e.V.":MAILTO:kontakt@ge-nuss-ecke.de
END:VEVENT
END:VCALENDAR