BEGIN:VCALENDAR
VERSION:2.0
PRODID:-//Ge-Nuss-Ecke - ECPv6.15.20//NONSGML v1.0//EN
CALSCALE:GREGORIAN
METHOD:PUBLISH
X-WR-CALNAME:Ge-Nuss-Ecke
X-ORIGINAL-URL:https://ge-nuss-ecke.de
X-WR-CALDESC:Veranstaltungen für Ge-Nuss-Ecke
REFRESH-INTERVAL;VALUE=DURATION:PT1H
X-Robots-Tag:noindex
X-PUBLISHED-TTL:PT1H
BEGIN:VTIMEZONE
TZID:Europe/Berlin
BEGIN:DAYLIGHT
TZOFFSETFROM:+0100
TZOFFSETTO:+0200
TZNAME:CEST
DTSTART:20250330T010000
END:DAYLIGHT
BEGIN:STANDARD
TZOFFSETFROM:+0200
TZOFFSETTO:+0100
TZNAME:CET
DTSTART:20251026T010000
END:STANDARD
BEGIN:DAYLIGHT
TZOFFSETFROM:+0100
TZOFFSETTO:+0200
TZNAME:CEST
DTSTART:20260329T010000
END:DAYLIGHT
BEGIN:STANDARD
TZOFFSETFROM:+0200
TZOFFSETTO:+0100
TZNAME:CET
DTSTART:20261025T010000
END:STANDARD
BEGIN:DAYLIGHT
TZOFFSETFROM:+0100
TZOFFSETTO:+0200
TZNAME:CEST
DTSTART:20270328T010000
END:DAYLIGHT
BEGIN:STANDARD
TZOFFSETFROM:+0200
TZOFFSETTO:+0100
TZNAME:CET
DTSTART:20271031T010000
END:STANDARD
END:VTIMEZONE
BEGIN:VEVENT
DTSTART;TZID=Europe/Berlin:20260424T183000
DTEND;TZID=Europe/Berlin:20260424T203000
DTSTAMP:20260423T123011
CREATED:20260315T105350Z
LAST-MODIFIED:20260315T105800Z
UID:2253-1777055400-1777062600@ge-nuss-ecke.de
SUMMARY:Italienische Lieder -Canzoni italiane mit Daniele Grivel
DESCRIPTION:Ein Abend voller Gefühl\, Leidenschaft und italienischem Flair \nDie Freunde der Ge‑Nuss‑Ecke e.V. laden zu einer musikalischen Reise nach Italien ein. \nDer Schauspieler und Sänger Daniele Grivel interpretiert bekannte und weniger bekannte italienische Lieder \n– mal melancholisch\, mal temperamentvoll-immer mit Herz und Ausdruck! \nFreuen Sie sich auf einen stimmungsvollen Abend mit Musik\, die Geschichten erzählt: von Liebe und Sehnsucht\, vom Leben\, vom Süden und von der Sonne Italien. \nDie Freunde der Ge-Nuss-Ecke e.V. bereiten kleine italienische Köstlichkeiten vor. \nBild erstellt mit Canva
URL:https://ge-nuss-ecke.de/event/italienische-lieder-canzoni-italiane-mit-daniele-grivel/
LOCATION:Ge-Nuss-Ecke\, Lannesdorfer Str. 2 - 4\, Bonn
ATTACH;FMTTYPE=image/jpeg:https://ge-nuss-ecke.de/wp-content/uploads/2026/03/2026_04_24-Italienischer-Abend.jpg
ORGANIZER;CN="Freunde der Ge-Nuss-Ecke e.V.":MAILTO:kontakt@ge-nuss-ecke.de
END:VEVENT
END:VCALENDAR